BEGIN:VCALENDAR
VERSION:2.0
PRODID:-//btv-turnen//btv-turnen.de//DE
CALSCALE:GREGORIAN
BEGIN:VEVENT
DTSTART:20230923T000001Z
DTEND:20230923T235959Z
LOCATION:Süssenbach
DTSTAMP:20260421T000001Z
SUMMARY:Deutsche Meisterschaften Lang-OL 2023 (DTB)
UID:20260421T000001Z-20230923T000001Z-20230923T235959Z
END:VEVENT
END:VCALENDAR