BEGIN:VCALENDAR
VERSION:2.0
PRODID:-//btv-turnen//btv-turnen.de//DE
CALSCALE:GREGORIAN
BEGIN:VEVENT
DTSTART:20230304T000001Z
DTEND:20230319T235959Z
LOCATION:Kipfenberg
DTSTAMP:20260424T000001Z
SUMMARY:Trainer-Assistentenausbildung
UID:20260424T000001Z-20230304T000001Z-20230319T235959Z
END:VEVENT
END:VCALENDAR