BEGIN:VCALENDAR
VERSION:2.0
PRODID:-//btv-turnen//btv-turnen.de//DE
CALSCALE:GREGORIAN
BEGIN:VEVENT
DTSTART:20240303T000001Z
DTEND:20240303T235959Z
LOCATION:Gersthofen
DTSTAMP:20260421T000001Z
SUMMARY:BayernCup DTB-Dance Kleingruppe mit Quali zum DC
UID:20260421T000001Z-20240303T000001Z-20240303T235959Z
END:VEVENT
END:VCALENDAR