BEGIN:VCALENDAR
VERSION:2.0
PRODID:-//btv-turnen//btv-turnen.de//DE
CALSCALE:GREGORIAN
BEGIN:VEVENT
DTSTART:20240608T000001Z
DTEND:20240608T235959Z
LOCATION:Cham
DTSTAMP:20260421T000001Z
SUMMARY:Südsterne Cup Gymnastik-K(ür) Einzel 2023
UID:20260421T000001Z-20240608T000001Z-20240608T235959Z
END:VEVENT
END:VCALENDAR