Workbook

Sheet Dropdownliste
A1: WK | B1: Jahrgang
A2: auswählen
A3: 17 | B3: 2021 u. jünger
A4: 16 | B4: 2019/2020
A5: 15 | B5: 2017/2018
A6: 14 | B6: 2015/2016
A7: 13 | B7: 2013/2014
A8: 12 | B8: 2012-2009
A9: 11 | B9: 2008 u. älter

Sheet Deckblatt
A1: Meldung Iller-Donau-Cup TG Iller-Donau
A2: RK wbl./17.10.2026/ Senden
A3: NICHT ÜBERWEISEN!!
A4: Eventuell zu leistende Kari-Kautionen und Meldegebühren
A5: werden erst nach dem Wettkampf in Rechnung gestellt!
A6: Angaben zum meldenden Verein
A7: Vereinsname:
A8: Meldeverantwortlich | D8: Name
D9: Email
D10: Telefon | E10: Festnetz | G10: Mobil
B13: Mannschaftsmeldung (gilt gleichzeitig als Quittung)
B14: Meldegebühr EUR 60,00 pro zusätzlicher Mannschaft im Vergleich zum Vorkampf
A15: WK | B15: Vorkampf Anzahl | E15: Rückkampf Anzahl | G15: zusätzliche | I15: Summe
A16: Nr. | B16: Mannsch. | D16: Turner | E16: Mannsch. | F16: Turner | G16: Mannsch. | I16: EUR
A17: 17 | B17: 0 | D17: xxxx | E17: 0 | F17: 0 | G17: =MAX(0,E17-B17) -> 0 | I17: =IF(E17-B17>0,G17*60,0) -> 0
A18: 16 | B18: 0 | D18: xxxx | E18: 0 | F18: 0 | G18: =MAX(0,E18-B18) -> 0 | I18: =IF(E18-B18>0,G18*60,0) -> 0
A19: 15 | B19: 0 | D19: xxxx | E19: 0 | F19: 0 | G19: =MAX(0,E19-B19) -> 0 | I19: =IF(E19-B19>0,G19*60,0) -> 0
A20: 14 | B20: 0 | D20: xxxx | E20: 0 | F20: 0 | G20: =MAX(0,E20-B20) -> 0 | I20: =IF(E20-B20>0,G20*60,0) -> 0
A21: 13 | B21: 0 | D21: xxxx | E21: 0 | F21: 0 | G21: =MAX(0,E21-B21) -> 0 | I21: =IF(E21-B21>0,G21*60,0) -> 0
A22: 12 | B22: 0 | D22: xxxx | E22: 0 | F22: 0 | G22: =MAX(0,E22-B22) -> 0 | I22: =IF(E22-B22>0,G22*60,0) -> 0
A23: 11 | B23: 0 | D23: xxxx | E23: 0 | F23: 0 | G23: =MAX(0,E23-B23) -> 0 | I23: =IF(E23-B23>0,G23*60,0) -> 0
A24: Summe | B24: =SUM(B18:C23) -> 0 | D24: =SUM(D17:D23) -> 0 | E24: =SUM(E18:E23) -> 0 | F24: =SUM(F18:F23) -> 0 | G24: =SUM(G18:H23) -> 0 | I24: =SUM(I17:I23) -> 0
A26: Kampfrichtermeldung (1 Kari/Mannschaft, max. 5 gefordert)
A27: EUR 50,00 pro geforderter Kampfrichter (max. EUR 250,00)
A29: Nr. | B29: WK-Nr. | C29: Name | E29: Email | I29: Lizenz
A30: 1
A31: 2
A32: 3
A33: 4
A34: 5
A35: Kampfrichterkaution | E35: =IF(B24>=5,5,B24) -> 0 | F35: à EUR 50,00 | I35: =E35*50 -> 0
A36: Summe Melde- und Karigebühren | I36: =I24+I35 -> 0
A37: NICHT ÜBERWEISEN!!

Sheet Mannschaft I
A1: Iller-Donau-Cup | C1: Wertung | E1: =Deckblatt!A2 -> RK wbl./17.10.2026/ Senden
A2: Verein | B2: =Deckblatt!D7 -> 0 | D2: I | E2: Wettkampf-Nr.: | H2: 17
A3: Gerät | B3: Sprung | E3: Jahrgang | H3: =VLOOKUP(H2,Dropdownliste!A3:B9,2,0) -> 2021 u. jünger
B4: Name | C4: Vorname | D4: Jahrg. (z.B. 2007) | E4: P-Stufe | F4: Kari 1 | G4: Kari 2 | H4: Endwert
A5: 1 | D5: JJJJ
A6: 2 | D6: JJJJ
A7: 3 | D7: JJJJ
A8: 4 | D8: JJJJ
A9: 5 | D9: JJJJ
A10: 6 | D10: JJJJ
A12: Iller-Donau-Cup | C12: Wertung | E12: =$E$1 -> RK wbl./17.10.2026/ Senden
A13: Verein | B13: =B2 -> 0 | D13: I | E13: Wettkampf-Nr.: | H13: =H2 -> 17
A14: Gerät | B14: Reck/Barren | E14: Jahrgang | H14: =H3 -> 2021 u. jünger
B15: Name | C15: Vorname | D15: Jahrg. (z.B. 2007) | E15: P-Stufe | F15: Kari 1 | G15: Kari 2 | H15: Endwert
A16: 1 | B16: =B5 -> 0 | C16: =C5 -> 0 | D16: =D5 -> JJJJ
A17: 2 | B17: =B6 -> 0 | C17: =C6 -> 0 | D17: =D6 -> JJJJ
A18: 3 | B18: =B7 -> 0 | C18: =C7 -> 0 | D18: =D7 -> JJJJ
A19: 4 | B19: =B8 -> 0 | C19: =C8 -> 0 | D19: =D8 -> JJJJ
A20: 5 | B20: =B9 -> 0 | C20: =C9 -> 0 | D20: =D9 -> JJJJ
A21: 6 | B21: =B10 -> 0 | C21: =C10 -> 0 | D21: =D10 -> JJJJ
A23: Iller-Donau-Cup | C23: Wertung | E23: =$E$1 -> RK wbl./17.10.2026/ Senden
A24: Verein | B24: =B2 -> 0 | D24: I | E24: Wettkampf-Nr.: | H24: =H13 -> 17
A25: Gerät | B25: Balken | E25: Jahrgang | H25: =H14 -> 2021 u. jünger
B26: Name | C26: Vorname | D26: Jahrg. (z.B. 2007) | E26: P-Stufe | F26: Kari 1 | G26: Kari 2 | H26: Endwert
A27: 1 | B27: =B16 -> 0 | C27: =C16 -> 0 | D27: =D16 -> JJJJ
A28: 2 | B28: =B17 -> 0 | C28: =C17 -> 0 | D28: =D17 -> JJJJ
A29: 3 | B29: =B18 -> 0 | C29: =C18 -> 0 | D29: =D18 -> JJJJ
A30: 4 | B30: =B19 -> 0 | C30: =C19 -> 0 | D30: =D19 -> JJJJ
A31: 5 | B31: =B20 -> 0 | C31: =C20 -> 0 | D31: =D20 -> JJJJ
A32: 6 | B32: =B21 -> 0 | C32: =C21 -> 0 | D32: =D21 -> JJJJ
A34: Iller-Donau-Cup | C34: Wertung | E34: =$E$1 -> RK wbl./17.10.2026/ Senden
A35: Verein | B35: =B2 -> 0 | D35: I | E35: Wettkampf-Nr.: | H35: =H24 -> 17
A36: Gerät | B36: Boden | E36: Jahrgang | H36: =H25 -> 2021 u. jünger
B37: Name | C37: Vorname | D37: Jahrg. (z.B. 2007) | E37: P-Stufe | F37: Kari 1 | G37: Kari 2 | H37: Endwert
A38: 1 | B38: =B27 -> 0 | C38: =C27 -> 0 | D38: =D27 -> JJJJ
A39: 2 | B39: =B28 -> 0 | C39: =C28 -> 0 | D39: =D28 -> JJJJ
A40: 3 | B40: =B29 -> 0 | C40: =C29 -> 0 | D40: =D29 -> JJJJ
A41: 4 | B41: =B30 -> 0 | C41: =C30 -> 0 | D41: =D30 -> JJJJ
A42: 5 | B42: =B31 -> 0 | C42: =C31 -> 0 | D42: =D31 -> JJJJ
A43: 6 | B43: =B32 -> 0 | C43: =C32 -> 0 | D43: =D32 -> JJJJ

Sheet Mannschaft II
A1: Iller-Donau-Cup | C1: Wertung | E1: =Deckblatt!$A$2 -> RK wbl./17.10.2026/ Senden
A2: Verein | B2: =Deckblatt!D7 -> 0 | D2: II | E2: Wettkampf-Nr.: | H2: 17
A3: Gerät | B3: Sprung | E3: Jahrgang | H3: =VLOOKUP(H2,Dropdownliste!A3:B9,2,0) -> 2021 u. jünger
B4: Name | C4: Vorname | D4: Jahrg. (z.B. 2007) | E4: P-Stufe | F4: Kari 1 | G4: Kari 2 | H4: Endwert
A5: 1 | D5: JJJJ
A6: 2 | D6: JJJJ
A7: 3 | D7: JJJJ
A8: 4 | D8: JJJJ
A9: 5 | D9: JJJJ
A10: 6 | D10: JJJJ
A12: Iller-Donau-Cup | C12: Wertung | E12: =Deckblatt!$A$2 -> RK wbl./17.10.2026/ Senden
A13: Verein | B13: =Deckblatt!D7 -> 0 | D13: II | E13: Wettkampf-Nr.: | H13: =H2 -> 17
A14: Gerät | B14: Reck/Barren | E14: Jahrgang | H14: =H3 -> 2021 u. jünger
B15: Name | C15: Vorname | D15: Jahrg. (z.B. 2007) | E15: P-Stufe | F15: Kari 1 | G15: Kari 2 | H15: Endwert
A16: 1 | B16: =B5 -> 0 | C16: =C5 -> 0 | D16: =D5 -> JJJJ
A17: 2 | B17: =B6 -> 0 | C17: =C6 -> 0 | D17: =D6 -> JJJJ
A18: 3 | B18: =B7 -> 0 | C18: =C7 -> 0 | D18: =D7 -> JJJJ
A19: 4 | B19: =B8 -> 0 | C19: =C8 -> 0 | D19: =D8 -> JJJJ
A20: 5 | B20: =B9 -> 0 | C20: =C9 -> 0 | D20: =D9 -> JJJJ
A21: 6 | B21: =B10 -> 0 | C21: =C10 -> 0 | D21: =D10 -> JJJJ
A23: Iller-Donau-Cup | C23: Wertung | E23: =Deckblatt!$A$2 -> RK wbl./17.10.2026/ Senden
A24: Verein | B24: =Deckblatt!D7 -> 0 | D24: II | E24: Wettkampf-Nr.: | H24: =H13 -> 17
A25: Gerät | B25: Balken | E25: Jahrgang | H25: =H14 -> 2021 u. jünger
B26: Name | C26: Vorname | D26: Jahrg. (z.B. 2007) | E26: P-Stufe | F26: Kari 1 | G26: Kari 2 | H26: Endwert
A27: 1 | B27: =B16 -> 0 | C27: =C16 -> 0 | D27: =D16 -> JJJJ
A28: 2 | B28: =B17 -> 0 | C28: =C17 -> 0 | D28: =D17 -> JJJJ
A29: 3 | B29: =B18 -> 0 | C29: =C18 -> 0 | D29: =D18 -> JJJJ
A30: 4 | B30: =B19 -> 0 | C30: =C19 -> 0 | D30: =D19 -> JJJJ
A31: 5 | B31: =B20 -> 0 | C31: =C20 -> 0 | D31: =D20 -> JJJJ
A32: 6 | B32: =B21 -> 0 | C32: =C21 -> 0 | D32: =D21 -> JJJJ
A34: Iller-Donau-Cup | C34: Wertung | E34: =Deckblatt!$A$2 -> RK wbl./17.10.2026/ Senden
A35: Verein | B35: =Deckblatt!D7 -> 0 | D35: II | E35: Wettkampf-Nr.: | H35: =H24 -> 17
A36: Gerät | B36: Boden | E36: Jahrgang | H36: =H25 -> 2021 u. jünger
B37: Name | C37: Vorname | D37: Jahrg. (z.B. 2007) | E37: P-Stufe | F37: Kari 1 | G37: Kari 2 | H37: Endwert
A38: 1 | B38: =B27 -> 0 | C38: =C27 -> 0 | D38: =D27 -> JJJJ
A39: 2 | B39: =B28 -> 0 | C39: =C28 -> 0 | D39: =D28 -> JJJJ
A40: 3 | B40: =B29 -> 0 | C40: =C29 -> 0 | D40: =D29 -> JJJJ
A41: 4 | B41: =B30 -> 0 | C41: =C30 -> 0 | D41: =D30 -> JJJJ
A42: 5 | B42: =B31 -> 0 | C42: =C31 -> 0 | D42: =D31 -> JJJJ
A43: 6 | B43: =B32 -> 0 | C43: =C32 -> 0 | D43: =D32 -> JJJJ

Sheet Mannschaft III
A1: Iller-Donau-Cup | C1: Wertung | E1: =Deckblatt!$A$2 -> RK wbl./17.10.2026/ Senden
A2: Verein | B2: =Deckblatt!D7 -> 0 | D2: III | E2: Wettkampf-Nr.: | H2: 17
A3: Gerät | B3: Sprung | E3: Jahrgang | H3: =VLOOKUP(H2,Dropdownliste!A3:B9,2,0) -> 2021 u. jünger
B4: Name | C4: Vorname | D4: Jahrg. (z.B. 2007) | E4: P-Stufe | F4: Kari 1 | G4: Kari 2 | H4: Endwert
A5: 1 | D5: JJJJ
A6: 2 | D6: JJJJ
A7: 3 | D7: JJJJ
A8: 4 | D8: JJJJ
A9: 5 | D9: JJJJ
A10: 6 | D10: JJJJ
A12: Iller-Donau-Cup | C12: Wertung | E12: =Deckblatt!$A$2 -> RK wbl./17.10.2026/ Senden
A13: Verein | B13: =B2 -> 0 | D13: =D2 -> III | E13: Wettkampf-Nr.: | H13: =H2 -> 17
A14: Gerät | B14: Reck/Barren | E14: Jahrgang | H14: =H3 -> 2021 u. jünger
B15: Name | C15: Vorname | D15: Jahrg. (z.B. 2007) | E15: P-Stufe | F15: Kari 1 | G15: Kari 2 | H15: Endwert
A16: 1 | B16: =B5 -> 0 | C16: =C5 -> 0 | D16: =D5 -> JJJJ
A17: 2 | B17: =B6 -> 0 | C17: =C6 -> 0 | D17: =D6 -> JJJJ
A18: 3 | B18: =B7 -> 0 | C18: =C7 -> 0 | D18: =D7 -> JJJJ
A19: 4 | B19: =B8 -> 0 | C19: =C8 -> 0 | D19: =D8 -> JJJJ
A20: 5 | B20: =B9 -> 0 | C20: =C9 -> 0 | D20: =D9 -> JJJJ
A21: 6 | B21: =B10 -> 0 | C21: =C10 -> 0 | D21: =D10 -> JJJJ
A23: Iller-Donau-Cup | C23: Wertung | E23: =Deckblatt!$A$2 -> RK wbl./17.10.2026/ Senden
A24: Verein | B24: =B13 -> 0 | D24: =D13 -> III | E24: Wettkampf-Nr.: | H24: =H13 -> 17
A25: Gerät | B25: Balken | E25: Jahrgang | H25: =H14 -> 2021 u. jünger
B26: Name | C26: Vorname | D26: Jahrg. (z.B. 2007) | E26: P-Stufe | F26: Kari 1 | G26: Kari 2 | H26: Endwert
A27: 1 | B27: =B16 -> 0 | C27: =C16 -> 0 | D27: =D16 -> JJJJ
A28: 2 | B28: =B17 -> 0 | C28: =C17 -> 0 | D28: =D17 -> JJJJ
A29: 3 | B29: =B18 -> 0 | C29: =C18 -> 0 | D29: =D18 -> JJJJ
A30: 4 | B30: =B19 -> 0 | C30: =C19 -> 0 | D30: =D19 -> JJJJ
A31: 5 | B31: =B20 -> 0 | C31: =C20 -> 0 | D31: =D20 -> JJJJ
A32: 6 | B32: =B21 -> 0 | C32: =C21 -> 0 | D32: =D21 -> JJJJ
A34: Iller-Donau-Cup | C34: Wertung | E34: =Deckblatt!$A$2 -> RK wbl./17.10.2026/ Senden
A35: Verein | B35: =B24 -> 0 | D35: =D24 -> III | E35: Wettkampf-Nr.: | H35: =H24 -> 17
A36: Gerät | B36: Boden | E36: Jahrgang | H36: =H25 -> 2021 u. jünger
B37: Name | C37: Vorname | D37: Jahrg. (z.B. 2007) | E37: P-Stufe | F37: Kari 1 | G37: Kari 2 | H37: Endwert
A38: 1 | B38: =B27 -> 0 | C38: =C27 -> 0 | D38: =D27 -> JJJJ
A39: 2 | B39: =B28 -> 0 | C39: =C28 -> 0 | D39: =D28 -> JJJJ
A40: 3 | B40: =B29 -> 0 | C40: =C29 -> 0 | D40: =D29 -> JJJJ
A41: 4 | B41: =B30 -> 0 | C41: =C30 -> 0 | D41: =D30 -> JJJJ
A42: 5 | B42: =B31 -> 0 | C42: =C31 -> 0 | D42: =D31 -> JJJJ
A43: 6 | B43: =B32 -> 0 | C43: =C32 -> 0 | D43: =D32 -> JJJJ

Sheet Mannschaft IV
A1: Iller-Donau-Cup | C1: Wertung | E1: =Deckblatt!$A$2 -> RK wbl./17.10.2026/ Senden
A2: Verein | B2: =Deckblatt!D7 -> 0 | D2: IV | E2: Wettkampf-Nr.: | H2: 17
A3: Gerät | B3: Sprung | E3: Jahrgang | H3: =VLOOKUP(H2,Dropdownliste!A3:B9,2,0) -> 2021 u. jünger
B4: Name | C4: Vorname | D4: Jahrg. (z.B. 2007) | E4: P-Stufe | F4: Kari 1 | G4: Kari 2 | H4: Endwert
A5: 1 | D5: JJJJ
A6: 2 | D6: JJJJ
A7: 3 | D7: JJJJ
A8: 4 | D8: JJJJ
A9: 5 | D9: JJJJ
A10: 6 | D10: JJJJ
A12: Iller-Donau-Cup | C12: Wertung | E12: =Deckblatt!$A$2 -> RK wbl./17.10.2026/ Senden
A13: Verein | B13: =Deckblatt!D7 -> 0 | D13: IV | E13: Wettkampf-Nr.: | H13: =H2 -> 17
A14: Gerät | B14: Reck/Barren | E14: Jahrgang | H14: =H3 -> 2021 u. jünger
B15: Name | C15: Vorname | D15: Jahrg. (z.B. 2007) | E15: P-Stufe | F15: Kari 1 | G15: Kari 2 | H15: Endwert
A16: 1 | B16: =B5 -> 0 | C16: =C5 -> 0 | D16: =D5 -> JJJJ
A17: 2 | B17: =B6 -> 0 | C17: =C6 -> 0 | D17: =D6 -> JJJJ
A18: 3 | B18: =B7 -> 0 | C18: =C7 -> 0 | D18: =D7 -> JJJJ
A19: 4 | B19: =B8 -> 0 | C19: =C8 -> 0 | D19: =D8 -> JJJJ
A20: 5 | B20: =B9 -> 0 | C20: =C9 -> 0 | D20: =D9 -> JJJJ
A21: 6 | B21: =B10 -> 0 | C21: =C10 -> 0 | D21: =D10 -> JJJJ
A23: Iller-Donau-Cup | C23: Wertung | E23: =Deckblatt!$A$2 -> RK wbl./17.10.2026/ Senden
A24: Verein | B24: =Deckblatt!D7 -> 0 | D24: IV | E24: Wettkampf-Nr.: | H24: =H13 -> 17
A25: Gerät | B25: Balken | E25: Jahrgang | H25: =H14 -> 2021 u. jünger
B26: Name | C26: Vorname | D26: Jahrg. (z.B. 2007) | E26: P-Stufe | F26: Kari 1 | G26: Kari 2 | H26: Endwert
A27: 1 | B27: =B16 -> 0 | C27: =C16 -> 0 | D27: =D16 -> JJJJ
A28: 2 | B28: =B17 -> 0 | C28: =C17 -> 0 | D28: =D17 -> JJJJ
A29: 3 | B29: =B18 -> 0 | C29: =C18 -> 0 | D29: =D18 -> JJJJ
A30: 4 | B30: =B19 -> 0 | C30: =C19 -> 0 | D30: =D19 -> JJJJ
A31: 5 | B31: =B20 -> 0 | C31: =C20 -> 0 | D31: =D20 -> JJJJ
A32: 6 | B32: =B21 -> 0 | C32: =C21 -> 0 | D32: =D21 -> JJJJ
A34: Iller-Donau-Cup | C34: Wertung | E34: =Deckblatt!$A$2 -> RK wbl./17.10.2026/ Senden
A35: Verein | B35: =Deckblatt!D7 -> 0 | D35: IV | E35: Wettkampf-Nr.: | H35: =H24 -> 17
A36: Gerät | B36: Boden | E36: Jahrgang | H36: =H25 -> 2021 u. jünger
B37: Name | C37: Vorname | D37: Jahrg. (z.B. 2007) | E37: P-Stufe | F37: Kari 1 | G37: Kari 2 | H37: Endwert
A38: 1 | B38: =B27 -> 0 | C38: =C27 -> 0 | D38: =D27 -> JJJJ
A39: 2 | B39: =B28 -> 0 | C39: =C28 -> 0 | D39: =D28 -> JJJJ
A40: 3 | B40: =B29 -> 0 | C40: =C29 -> 0 | D40: =D29 -> JJJJ
A41: 4 | B41: =B30 -> 0 | C41: =C30 -> 0 | D41: =D30 -> JJJJ
A42: 5 | B42: =B31 -> 0 | C42: =C31 -> 0 | D42: =D31 -> JJJJ
A43: 6 | B43: =B32 -> 0 | C43: =C32 -> 0 | D43: =D32 -> JJJJ

Sheet Mannschaft V
A1: Iller-Donau-Cup | C1: Wertung | E1: =Deckblatt!$A$2 -> RK wbl./17.10.2026/ Senden
A2: Verein | B2: =Deckblatt!D7 -> 0 | D2: V | E2: Wettkampf-Nr.: | H2: 17
A3: Gerät | B3: Sprung | E3: Jahrgang | H3: =VLOOKUP(H2,Dropdownliste!A3:B9,2,0) -> 2021 u. jünger
B4: Name | C4: Vorname | D4: Jahrg. (z.B. 2007) | E4: P-Stufe | F4: Kari 1 | G4: Kari 2 | H4: Endwert
A5: 1 | D5: JJJJ
A6: 2 | D6: JJJJ
A7: 3 | D7: JJJJ
A8: 4 | D8: JJJJ
A9: 5 | D9: JJJJ
A10: 6 | D10: JJJJ
A12: Iller-Donau-Cup | C12: Wertung | E12: =Deckblatt!$A$2 -> RK wbl./17.10.2026/ Senden
A13: Verein | B13: =Deckblatt!D7 -> 0 | D13: V | E13: Wettkampf-Nr.: | H13: =H2 -> 17
A14: Gerät | B14: Reck/Barren | E14: Jahrgang | H14: =H3 -> 2021 u. jünger
B15: Name | C15: Vorname | D15: Jahrg. (z.B. 2007) | E15: P-Stufe | F15: Kari 1 | G15: Kari 2 | H15: Endwert
A16: 1 | B16: =B5 -> 0 | C16: =C5 -> 0 | D16: =D5 -> JJJJ
A17: 2 | B17: =B6 -> 0 | C17: =C6 -> 0 | D17: =D6 -> JJJJ
A18: 3 | B18: =B7 -> 0 | C18: =C7 -> 0 | D18: =D7 -> JJJJ
A19: 4 | B19: =B8 -> 0 | C19: =C8 -> 0 | D19: =D8 -> JJJJ
A20: 5 | B20: =B9 -> 0 | C20: =C9 -> 0 | D20: =D9 -> JJJJ
A21: 6 | B21: =B10 -> 0 | C21: =C10 -> 0 | D21: =D10 -> JJJJ
A23: Iller-Donau-Cup | C23: Wertung | E23: =Deckblatt!$A$2 -> RK wbl./17.10.2026/ Senden
A24: Verein | B24: =Deckblatt!D7 -> 0 | D24: V | E24: Wettkampf-Nr.: | H24: =H13 -> 17
A25: Gerät | B25: Balken | E25: Jahrgang | H25: =H14 -> 2021 u. jünger
B26: Name | C26: Vorname | D26: Jahrg. (z.B. 2007) | E26: P-Stufe | F26: Kari 1 | G26: Kari 2 | H26: Endwert
A27: 1 | B27: =B16 -> 0 | C27: =C16 -> 0 | D27: =D16 -> JJJJ
A28: 2 | B28: =B17 -> 0 | C28: =C17 -> 0 | D28: =D17 -> JJJJ
A29: 3 | B29: =B18 -> 0 | C29: =C18 -> 0 | D29: =D18 -> JJJJ
A30: 4 | B30: =B19 -> 0 | C30: =C19 -> 0 | D30: =D19 -> JJJJ
A31: 5 | B31: =B20 -> 0 | C31: =C20 -> 0 | D31: =D20 -> JJJJ
A32: 6 | B32: =B21 -> 0 | C32: =C21 -> 0 | D32: =D21 -> JJJJ
A34: Iller-Donau-Cup | C34: Wertung | E34: =Deckblatt!$A$2 -> RK wbl./17.10.2026/ Senden
A35: Verein | B35: =Deckblatt!D7 -> 0 | D35: V | E35: Wettkampf-Nr.: | H35: =H24 -> 17
A36: Gerät | B36: Boden | E36: Jahrgang | H36: =H25 -> 2021 u. jünger
B37: Name | C37: Vorname | D37: Jahrg. (z.B. 2007) | E37: P-Stufe | F37: Kari 1 | G37: Kari 2 | H37: Endwert
A38: 1 | B38: =B27 -> 0 | C38: =C27 -> 0 | D38: =D27 -> JJJJ
A39: 2 | B39: =B28 -> 0 | C39: =C28 -> 0 | D39: =D28 -> JJJJ
A40: 3 | B40: =B29 -> 0 | C40: =C29 -> 0 | D40: =D29 -> JJJJ
A41: 4 | B41: =B30 -> 0 | C41: =C30 -> 0 | D41: =D30 -> JJJJ
A42: 5 | B42: =B31 -> 0 | C42: =C31 -> 0 | D42: =D31 -> JJJJ
A43: 6 | B43: =B32 -> 0 | C43: =C32 -> 0 | D43: =D32 -> JJJJ

Sheet Mannschaft VI
A1: Iller-Donau-Cup | C1: Wertung | E1: =Deckblatt!$A$2 -> RK wbl./17.10.2026/ Senden
A2: Verein | B2: =Deckblatt!D7 -> 0 | D2: VI | E2: Wettkampf-Nr.: | H2: 17
A3: Gerät | B3: Sprung | E3: Jahrgang | H3: =VLOOKUP(H2,Dropdownliste!A3:B9,2,0) -> 2021 u. jünger
B4: Name | C4: Vorname | D4: Jahrg. (z.B. 2007) | E4: P-Stufe | F4: Kari 1 | G4: Kari 2 | H4: Endwert
A5: 1 | D5: JJJJ
A6: 2 | D6: JJJJ
A7: 3 | D7: JJJJ
A8: 4 | D8: JJJJ
A9: 5 | D9: JJJJ
A10: 6 | D10: JJJJ
A12: Iller-Donau-Cup | C12: Wertung | E12: =Deckblatt!$A$2 -> RK wbl./17.10.2026/ Senden
A13: Verein | B13: =Deckblatt!D7 -> 0 | D13: VI | E13: Wettkampf-Nr.: | H13: =H2 -> 17
A14: Gerät | B14: Reck/Barren | E14: Jahrgang | H14: =H3 -> 2021 u. jünger
B15: Name | C15: Vorname | D15: Jahrg. (z.B. 2007) | E15: P-Stufe | F15: Kari 1 | G15: Kari 2 | H15: Endwert
A16: 1 | B16: =B5 -> 0 | C16: =C5 -> 0 | D16: =D5 -> JJJJ
A17: 2 | B17: =B6 -> 0 | C17: =C6 -> 0 | D17: =D6 -> JJJJ
A18: 3 | B18: =B7 -> 0 | C18: =C7 -> 0 | D18: =D7 -> JJJJ
A19: 4 | B19: =B8 -> 0 | C19: =C8 -> 0 | D19: =D8 -> JJJJ
A20: 5 | B20: =B9 -> 0 | C20: =C9 -> 0 | D20: =D9 -> JJJJ
A21: 6 | B21: =B10 -> 0 | C21: =C10 -> 0 | D21: =D10 -> JJJJ
A23: Iller-Donau-Cup | C23: Wertung | E23: =Deckblatt!$A$2 -> RK wbl./17.10.2026/ Senden
A24: Verein | B24: =Deckblatt!D7 -> 0 | D24: VI | E24: Wettkampf-Nr.: | H24: =H13 -> 17
A25: Gerät | B25: Balken | E25: Jahrgang | H25: =H14 -> 2021 u. jünger
B26: Name | C26: Vorname | D26: Jahrg. (z.B. 2007) | E26: P-Stufe | F26: Kari 1 | G26: Kari 2 | H26: Endwert
A27: 1 | B27: =B16 -> 0 | C27: =C16 -> 0 | D27: =D16 -> JJJJ
A28: 2 | B28: =B17 -> 0 | C28: =C17 -> 0 | D28: =D17 -> JJJJ
A29: 3 | B29: =B18 -> 0 | C29: =C18 -> 0 | D29: =D18 -> JJJJ
A30: 4 | B30: =B19 -> 0 | C30: =C19 -> 0 | D30: =D19 -> JJJJ
A31: 5 | B31: =B20 -> 0 | C31: =C20 -> 0 | D31: =D20 -> JJJJ
A32: 6 | B32: =B21 -> 0 | C32: =C21 -> 0 | D32: =D21 -> JJJJ
A34: Iller-Donau-Cup | C34: Wertung | E34: =Deckblatt!$A$2 -> RK wbl./17.10.2026/ Senden
A35: Verein | B35: =Deckblatt!D7 -> 0 | D35: VI | E35: Wettkampf-Nr.: | H35: =H24 -> 17
A36: Gerät | B36: Boden | E36: Jahrgang | H36: =H25 -> 2021 u. jünger
B37: Name | C37: Vorname | D37: Jahrg. (z.B. 2007) | E37: P-Stufe | F37: Kari 1 | G37: Kari 2 | H37: Endwert
A38: 1 | B38: =B27 -> 0 | C38: =C27 -> 0 | D38: =D27 -> JJJJ
A39: 2 | B39: =B28 -> 0 | C39: =C28 -> 0 | D39: =D28 -> JJJJ
A40: 3 | B40: =B29 -> 0 | C40: =C29 -> 0 | D40: =D29 -> JJJJ
A41: 4 | B41: =B30 -> 0 | C41: =C30 -> 0 | D41: =D30 -> JJJJ
A42: 5 | B42: =B31 -> 0 | C42: =C31 -> 0 | D42: =D31 -> JJJJ
A43: 6 | B43: =B32 -> 0 | C43: =C32 -> 0 | D43: =D32 -> JJJJ

Sheet Mannschaft VII
A1: Iller-Donau-Cup | C1: Wertung | E1: =Deckblatt!$A$2 -> RK wbl./17.10.2026/ Senden
A2: Verein | B2: =Deckblatt!D7 -> 0 | D2: VII | E2: Wettkampf-Nr.: | H2: 17
A3: Gerät | B3: Sprung | E3: Jahrgang | H3: =VLOOKUP(H2,Dropdownliste!A3:B9,2,0) -> 2021 u. jünger
B4: Name | C4: Vorname | D4: Jahrg. (z.B. 2007) | E4: P-Stufe | F4: Kari 1 | G4: Kari 2 | H4: Endwert
A5: 1 | D5: JJJJ
A6: 2 | D6: JJJJ
A7: 3 | D7: JJJJ
A8: 4 | D8: JJJJ
A9: 5 | D9: JJJJ
A10: 6 | D10: JJJJ
A12: Iller-Donau-Cup | C12: Wertung | E12: =Deckblatt!$A$2 -> RK wbl./17.10.2026/ Senden
A13: Verein | B13: =Deckblatt!D7 -> 0 | D13: VII | E13: Wettkampf-Nr.: | H13: =H2 -> 17
A14: Gerät | B14: Reck/Barren | E14: Jahrgang | H14: =H3 -> 2021 u. jünger
B15: Name | C15: Vorname | D15: Jahrg. (z.B. 2007) | E15: P-Stufe | F15: Kari 1 | G15: Kari 2 | H15: Endwert
A16: 1 | B16: =B5 -> 0 | C16: =C5 -> 0 | D16: =D5 -> JJJJ
A17: 2 | B17: =B6 -> 0 | C17: =C6 -> 0 | D17: =D6 -> JJJJ
A18: 3 | B18: =B7 -> 0 | C18: =C7 -> 0 | D18: =D7 -> JJJJ
A19: 4 | B19: =B8 -> 0 | C19: =C8 -> 0 | D19: =D8 -> JJJJ
A20: 5 | B20: =B9 -> 0 | C20: =C9 -> 0 | D20: =D9 -> JJJJ
A21: 6 | B21: =B10 -> 0 | C21: =C10 -> 0 | D21: =D10 -> JJJJ
A23: Iller-Donau-Cup | C23: Wertung | E23: =Deckblatt!$A$2 -> RK wbl./17.10.2026/ Senden
A24: Verein | B24: =Deckblatt!D7 -> 0 | D24: VII | E24: Wettkampf-Nr.: | H24: =H13 -> 17
A25: Gerät | B25: Balken | E25: Jahrgang | H25: =H14 -> 2021 u. jünger
B26: Name | C26: Vorname | D26: Jahrg. (z.B. 2007) | E26: P-Stufe | F26: Kari 1 | G26: Kari 2 | H26: Endwert
A27: 1 | B27: =B16 -> 0 | C27: =C16 -> 0 | D27: =D16 -> JJJJ
A28: 2 | B28: =B17 -> 0 | C28: =C17 -> 0 | D28: =D17 -> JJJJ
A29: 3 | B29: =B18 -> 0 | C29: =C18 -> 0 | D29: =D18 -> JJJJ
A30: 4 | B30: =B19 -> 0 | C30: =C19 -> 0 | D30: =D19 -> JJJJ
A31: 5 | B31: =B20 -> 0 | C31: =C20 -> 0 | D31: =D20 -> JJJJ
A32: 6 | B32: =B21 -> 0 | C32: =C21 -> 0 | D32: =D21 -> JJJJ
A34: Iller-Donau-Cup | C34: Wertung | E34: =Deckblatt!$A$2 -> RK wbl./17.10.2026/ Senden
A35: Verein | B35: =Deckblatt!D7 -> 0 | D35: VII | E35: Wettkampf-Nr.: | H35: =H24 -> 17
A36: Gerät | B36: Boden | E36: Jahrgang | H36: =H25 -> 2021 u. jünger
B37: Name | C37: Vorname | D37: Jahrg. (z.B. 2007) | E37: P-Stufe | F37: Kari 1 | G37: Kari 2 | H37: Endwert
A38: 1 | B38: =B27 -> 0 | C38: =C27 -> 0 | D38: =D27 -> JJJJ
A39: 2 | B39: =B28 -> 0 | C39: =C28 -> 0 | D39: =D28 -> JJJJ
A40: 3 | B40: =B29 -> 0 | C40: =C29 -> 0 | D40: =D29 -> JJJJ
A41: 4 | B41: =B30 -> 0 | C41: =C30 -> 0 | D41: =D30 -> JJJJ
A42: 5 | B42: =B31 -> 0 | C42: =C31 -> 0 | D42: =D31 -> JJJJ
A43: 6 | B43: =B32 -> 0 | C43: =C32 -> 0 | D43: =D32 -> JJJJ

Sheet Mannschaft VIII
A1: Iller-Donau-Cup | C1: Wertung | E1: =Deckblatt!$A$2 -> RK wbl./17.10.2026/ Senden
A2: Verein | B2: =Deckblatt!D7 -> 0 | D2: VIII | E2: Wettkampf-Nr.: | H2: 17
A3: Gerät | B3: Sprung | E3: Jahrgang | H3: =VLOOKUP(H2,Dropdownliste!A3:B9,2,0) -> 2021 u. jünger
B4: Name | C4: Vorname | D4: Jahrg. (z.B. 2007) | E4: P-Stufe | F4: Kari 1 | G4: Kari 2 | H4: Endwert
A5: 1 | D5: JJJJ
A6: 2 | D6: JJJJ
A7: 3 | D7: JJJJ
A8: 4 | D8: JJJJ
A9: 5 | D9: JJJJ
A10: 6 | D10: JJJJ
A12: Iller-Donau-Cup | C12: Wertung | E12: =Deckblatt!$A$2 -> RK wbl./17.10.2026/ Senden
A13: Verein | B13: =Deckblatt!D7 -> 0 | D13: VIII | E13: Wettkampf-Nr.: | H13: =H2 -> 17
A14: Gerät | B14: Reck/Barren | E14: Jahrgang | H14: =H3 -> 2021 u. jünger
B15: Name | C15: Vorname | D15: Jahrg. (z.B. 2007) | E15: P-Stufe | F15: Kari 1 | G15: Kari 2 | H15: Endwert
A16: 1 | B16: =B5 -> 0 | C16: =C5 -> 0 | D16: =D5 -> JJJJ
A17: 2 | B17: =B6 -> 0 | C17: =C6 -> 0 | D17: =D6 -> JJJJ
A18: 3 | B18: =B7 -> 0 | C18: =C7 -> 0 | D18: =D7 -> JJJJ
A19: 4 | B19: =B8 -> 0 | C19: =C8 -> 0 | D19: =D8 -> JJJJ
A20: 5 | B20: =B9 -> 0 | C20: =C9 -> 0 | D20: =D9 -> JJJJ
A21: 6 | B21: =B10 -> 0 | C21: =C10 -> 0 | D21: =D10 -> JJJJ
A23: Iller-Donau-Cup | C23: Wertung | E23: =Deckblatt!$A$2 -> RK wbl./17.10.2026/ Senden
A24: Verein | B24: =Deckblatt!D7 -> 0 | D24: VIII | E24: Wettkampf-Nr.: | H24: =H13 -> 17
A25: Gerät | B25: Balken | E25: Jahrgang | H25: =H14 -> 2021 u. jünger
B26: Name | C26: Vorname | D26: Jahrg. (z.B. 2007) | E26: P-Stufe | F26: Kari 1 | G26: Kari 2 | H26: Endwert
A27: 1 | B27: =B16 -> 0 | C27: =C16 -> 0 | D27: =D16 -> JJJJ
A28: 2 | B28: =B17 -> 0 | C28: =C17 -> 0 | D28: =D17 -> JJJJ
A29: 3 | B29: =B18 -> 0 | C29: =C18 -> 0 | D29: =D18 -> JJJJ
A30: 4 | B30: =B19 -> 0 | C30: =C19 -> 0 | D30: =D19 -> JJJJ
A31: 5 | B31: =B20 -> 0 | C31: =C20 -> 0 | D31: =D20 -> JJJJ
A32: 6 | B32: =B21 -> 0 | C32: =C21 -> 0 | D32: =D21 -> JJJJ
A34: Iller-Donau-Cup | C34: Wertung | E34: =Deckblatt!$A$2 -> RK wbl./17.10.2026/ Senden
A35: Verein | B35: =Deckblatt!D7 -> 0 | D35: VIII | E35: Wettkampf-Nr.: | H35: =H24 -> 17
A36: Gerät | B36: Balken | E36: Jahrgang | H36: =H25 -> 2021 u. jünger
B37: Name | C37: Vorname | D37: Jahrg. (z.B. 2007) | E37: P-Stufe | F37: Kari 1 | G37: Kari 2 | H37: Endwert
A38: 1 | B38: =B27 -> 0 | C38: =C27 -> 0 | D38: =D27 -> JJJJ
A39: 2 | B39: =B28 -> 0 | C39: =C28 -> 0 | D39: =D28 -> JJJJ
A40: 3 | B40: =B29 -> 0 | C40: =C29 -> 0 | D40: =D29 -> JJJJ
A41: 4 | B41: =B30 -> 0 | C41: =C30 -> 0 | D41: =D30 -> JJJJ
A42: 5 | B42: =B31 -> 0 | C42: =C31 -> 0 | D42: =D31 -> JJJJ
A43: 6 | B43: =B32 -> 0 | C43: =C32 -> 0 | D43: =D32 -> JJJJ

Sheet  Startberechtigung ID
A1: Meldung Iller-Donau-Cup TG Iller-Donau
A2: =Deckblatt!A2 -> RK wbl./17.10.2026/ Senden
A3: Meldung zur Startberechtigung
A4: ACHTUNG: BITTE ZUERST ALLE MANNSCHAFTEN MELDEN, DANN ERST DIESES FORMULAR ergänzen
B5: M.schaft | C5: Persönliche Angaben
A6: Vereinsname | B6: Nr. | C6: Name | D6: Vorname | E6: J.-gang | F6: Id-Nr.
A7: =Deckblatt!$D$7 -> 0 | B7: I | C7: ='Mannschaft I'!B5 -> 0 | D7: ='Mannschaft I'!C5 -> 0 | E7: ='Mannschaft I'!D5 -> JJJJ
A8: =Deckblatt!$D$7 -> 0 | B8: I | C8: ='Mannschaft I'!B6 -> 0 | D8: ='Mannschaft I'!C6 -> 0 | E8: ='Mannschaft I'!D6 -> JJJJ
A9: =Deckblatt!$D$7 -> 0 | B9: I | C9: ='Mannschaft I'!B7 -> 0 | D9: ='Mannschaft I'!C7 -> 0 | E9: ='Mannschaft I'!D7 -> JJJJ
A10: =Deckblatt!$D$7 -> 0 | B10: I | C10: ='Mannschaft I'!B8 -> 0 | D10: ='Mannschaft I'!C8 -> 0 | E10: ='Mannschaft I'!D8 -> JJJJ
A11: =Deckblatt!$D$7 -> 0 | B11: I | C11: ='Mannschaft I'!B9 -> 0 | D11: ='Mannschaft I'!C9 -> 0 | E11: ='Mannschaft I'!D9 -> JJJJ
A12: =Deckblatt!$D$7 -> 0 | B12: I | C12: ='Mannschaft I'!B10 -> 0 | D12: ='Mannschaft I'!C10 -> 0 | E12: ='Mannschaft I'!D10 -> JJJJ
A13: =Deckblatt!$D$7 -> 0 | B13: II | C13: ='Mannschaft II'!B5 -> 0 | D13: ='Mannschaft II'!C5 -> 0 | E13: ='Mannschaft II'!D5 -> JJJJ
A14: =Deckblatt!$D$7 -> 0 | B14: II | C14: ='Mannschaft II'!B6 -> 0 | D14: ='Mannschaft II'!C6 -> 0 | E14: ='Mannschaft II'!D6 -> JJJJ
A15: =Deckblatt!$D$7 -> 0 | B15: II | C15: ='Mannschaft II'!B7 -> 0 | D15: ='Mannschaft II'!C7 -> 0 | E15: ='Mannschaft II'!D7 -> JJJJ
A16: =Deckblatt!$D$7 -> 0 | B16: II | C16: ='Mannschaft II'!B8 -> 0 | D16: ='Mannschaft II'!C8 -> 0 | E16: ='Mannschaft II'!D8 -> JJJJ
A17: =Deckblatt!$D$7 -> 0 | B17: II | C17: ='Mannschaft II'!B9 -> 0 | D17: ='Mannschaft II'!C9 -> 0 | E17: ='Mannschaft II'!D10 -> JJJJ
A18: =Deckblatt!$D$7 -> 0 | B18: II | C18: ='Mannschaft II'!B10 -> 0 | D18: ='Mannschaft II'!C10 -> 0 | E18: ='Mannschaft II'!D10 -> JJJJ
A19: =Deckblatt!$D$7 -> 0 | B19: III | C19: ='Mannschaft III'!B5 -> 0 | D19: ='Mannschaft III'!C5 -> 0 | E19: ='Mannschaft III'!D5 -> JJJJ
A20: =Deckblatt!$D$7 -> 0 | B20: III | C20: ='Mannschaft III'!B6 -> 0 | D20: ='Mannschaft III'!C6 -> 0 | E20: ='Mannschaft III'!D6 -> JJJJ
A21: =Deckblatt!$D$7 -> 0 | B21: III | C21: ='Mannschaft III'!B7 -> 0 | D21: ='Mannschaft III'!C7 -> 0 | E21: ='Mannschaft III'!D7 -> JJJJ
A22: =Deckblatt!$D$7 -> 0 | B22: III | C22: ='Mannschaft III'!B8 -> 0 | D22: ='Mannschaft III'!C8 -> 0 | E22: ='Mannschaft III'!D8 -> JJJJ
A23: =Deckblatt!$D$7 -> 0 | B23: III | C23: ='Mannschaft III'!B9 -> 0 | D23: ='Mannschaft III'!C9 -> 0 | E23: ='Mannschaft III'!D9 -> JJJJ
A24: =Deckblatt!$D$7 -> 0 | B24: III | C24: ='Mannschaft III'!B10 -> 0 | D24: ='Mannschaft III'!C10 -> 0 | E24: ='Mannschaft III'!D10 -> JJJJ
A25: =Deckblatt!$D$7 -> 0 | B25: IV | C25: ='Mannschaft IV'!B5 -> 0 | D25: ='Mannschaft IV'!C5 -> 0 | E25: ='Mannschaft IV'!D5 -> JJJJ
A26: =Deckblatt!$D$7 -> 0 | B26: IV | C26: ='Mannschaft IV'!B6 -> 0 | D26: ='Mannschaft IV'!C6 -> 0 | E26: ='Mannschaft IV'!D6 -> JJJJ
A27: =Deckblatt!$D$7 -> 0 | B27: IV | C27: ='Mannschaft IV'!B7 -> 0 | D27: ='Mannschaft IV'!C7 -> 0 | E27: ='Mannschaft IV'!D7 -> JJJJ
A28: =Deckblatt!$D$7 -> 0 | B28: IV | C28: ='Mannschaft IV'!B8 -> 0 | D28: ='Mannschaft IV'!C8 -> 0 | E28: ='Mannschaft IV'!D8 -> JJJJ
A29: =Deckblatt!$D$7 -> 0 | B29: IV | C29: ='Mannschaft IV'!B9 -> 0 | D29: ='Mannschaft IV'!C9 -> 0 | E29: ='Mannschaft IV'!D9 -> JJJJ
A30: =Deckblatt!$D$7 -> 0 | B30: IV | C30: ='Mannschaft IV'!B10 -> 0 | D30: ='Mannschaft IV'!C10 -> 0 | E30: ='Mannschaft IV'!D10 -> JJJJ
A31: =Deckblatt!$D$7 -> 0 | B31: V | C31: ='Mannschaft V'!B5 -> 0 | D31: ='Mannschaft V'!C5 -> 0 | E31: ='Mannschaft V'!D5 -> JJJJ
A32: =Deckblatt!$D$7 -> 0 | B32: V | C32: ='Mannschaft V'!B6 -> 0 | D32: ='Mannschaft V'!C6 -> 0 | E32: ='Mannschaft V'!D6 -> JJJJ
A33: =Deckblatt!$D$7 -> 0 | B33: V | C33: ='Mannschaft V'!B7 -> 0 | D33: ='Mannschaft V'!C7 -> 0 | E33: ='Mannschaft V'!D7 -> JJJJ
A34: =Deckblatt!$D$7 -> 0 | B34: V | C34: ='Mannschaft V'!B8 -> 0 | D34: ='Mannschaft V'!C8 -> 0 | E34: ='Mannschaft V'!D8 -> JJJJ
A35: =Deckblatt!$D$7 -> 0 | B35: V | C35: ='Mannschaft V'!B9 -> 0 | D35: ='Mannschaft V'!C9 -> 0 | E35: ='Mannschaft V'!D9 -> JJJJ
A36: =Deckblatt!$D$7 -> 0 | B36: V | C36: ='Mannschaft V'!B10 -> 0 | D36: ='Mannschaft V'!C10 -> 0 | E36: ='Mannschaft V'!D10 -> JJJJ
A37: =Deckblatt!$D$7 -> 0 | B37: VI | C37: ='Mannschaft VI'!B5 -> 0 | D37: ='Mannschaft VI'!C5 -> 0 | E37: ='Mannschaft VI'!D5 -> JJJJ
A38: =Deckblatt!$D$7 -> 0 | B38: VI | C38: ='Mannschaft VI'!B6 -> 0 | D38: ='Mannschaft VI'!C6 -> 0 | E38: ='Mannschaft VI'!D6 -> JJJJ
A39: =Deckblatt!$D$7 -> 0 | B39: VI | C39: ='Mannschaft VI'!B7 -> 0 | D39: ='Mannschaft VI'!C7 -> 0 | E39: ='Mannschaft VI'!D7 -> JJJJ
A40: =Deckblatt!$D$7 -> 0 | B40: VI | C40: ='Mannschaft VI'!B8 -> 0 | D40: ='Mannschaft VI'!C8 -> 0 | E40: ='Mannschaft VI'!D8 -> JJJJ
...
